Package: splatter
Version: 1.30.0
Command: /home/biocbuild/R/R/bin/R CMD INSTALL splatter
StartedAt: 2024-11-19 21:12:53 -0000 (Tue, 19 Nov 2024)
EndedAt: 2024-11-19 21:13:35 -0000 (Tue, 19 Nov 2024)
EllapsedTime: 42.0 seconds
RetCode: 0
Status: OK