Package: splatter Version: 1.30.0 Command: /home/biocbuild/bbs-3.20-bioc/R/bin/R CMD check --install=check:splatter.install-out.txt --library=/home/biocbuild/bbs-3.20-bioc/R/site-library --timings splatter_1.30.0.tar.gz StartedAt: 2025-02-04 02:48:42 -0500 (Tue, 04 Feb 2025) EndedAt: 2025-02-04 02:58:19 -0500 (Tue, 04 Feb 2025) EllapsedTime: 577.5 seconds RetCode: 0 Status: OK CheckDir: splatter.Rcheck Warnings: 0