Package: splineTimeR Version: 1.34.0 Maintainer: Herbert Braselmann , Martin Selmansberger MaintainerEmail: martin.selmansberger at helmholtz-muenchen.de git_url: https://git.bioconductor.org/packages/splineTimeR git_branch: RELEASE_3_20 git_last_commit: 85b3b1d git_last_commit_date: 2024-10-29 10:06:05 -0500 (Tue, 29 Oct 2024)