Package: splineTimeR Version: 1.34.0 Command: /Library/Frameworks/R.framework/Resources/bin/R CMD INSTALL splineTimeR StartedAt: 2025-01-30 15:45:11 -0500 (Thu, 30 Jan 2025) EndedAt: 2025-01-30 15:45:29 -0500 (Thu, 30 Jan 2025) EllapsedTime: 18.1 seconds RetCode: 0 Status: OK