Package: splineTimeR Version: 1.34.0 Command: rm -rf splineTimeR.buildbin-libdir && mkdir splineTimeR.buildbin-libdir && /Users/biocbuild/BBS/utils/build-universal.sh splineTimeR_1.34.0.tar.gz /Library/Frameworks/R.framework/Resources/bin/R splineTimeR.buildbin-libdir StartedAt: 2024-11-09 17:13:53 -0500 (Sat, 09 Nov 2024) EndedAt: 2024-11-09 17:14:00 -0500 (Sat, 09 Nov 2024) EllapsedTime: 7.1 seconds RetCode: 0 Status: OK PackageFile: splineTimeR_1.34.0.tgz PackageFileSize: 1.267 MiB