Package: splineTimeR Version: 1.34.0 Command: chmod a+r splineTimeR -R && F:\biocbuild\bbs-3.20-bioc\R\bin\R.exe CMD build --keep-empty-dirs --no-resave-data splineTimeR StartedAt: 2025-01-30 22:04:55 -0500 (Thu, 30 Jan 2025) EndedAt: 2025-01-30 22:05:59 -0500 (Thu, 30 Jan 2025) EllapsedTime: 64.4 seconds RetCode: 0 Status: OK PackageFile: splineTimeR_1.34.0.tar.gz PackageFileSize: 1.103 MiB