Package: splineTimeR Version: 1.34.0 Command: /home/biocbuild/R/R/bin/R CMD check --install=check:splineTimeR.install-out.txt --library=/home/biocbuild/R/R/site-library --no-vignettes --timings splineTimeR_1.34.0.tar.gz StartedAt: 2025-01-31 10:42:36 -0000 (Fri, 31 Jan 2025) EndedAt: 2025-01-31 10:45:28 -0000 (Fri, 31 Jan 2025) EllapsedTime: 172.2 seconds RetCode: 0 Status: OK CheckDir: splineTimeR.Rcheck Warnings: 0