Package: spoon Version: 1.2.0 Command: /Library/Frameworks/R.framework/Resources/bin/R CMD build --keep-empty-dirs --no-resave-data spoon StartedAt: 2025-02-03 22:38:02 -0500 (Mon, 03 Feb 2025) EndedAt: 2025-02-03 22:41:44 -0500 (Mon, 03 Feb 2025) EllapsedTime: 222.5 seconds RetCode: 0 Status: OK PackageFile: spoon_1.2.0.tar.gz PackageFileSize: 813.7 KiB