Package: spoon Version: 1.2.0 Command: /Library/Frameworks/R.framework/Resources/bin/R CMD check --install=check:spoon.install-out.txt --library=/Library/Frameworks/R.framework/Resources/library --no-vignettes --timings spoon_1.2.0.tar.gz StartedAt: 2025-02-04 10:42:42 -0500 (Tue, 04 Feb 2025) EndedAt: 2025-02-04 10:56:47 -0500 (Tue, 04 Feb 2025) EllapsedTime: 844.6 seconds RetCode: 0 Status: OK CheckDir: spoon.Rcheck Warnings: 0