Package: spoon Version: 1.2.0 Command: /Library/Frameworks/R.framework/Resources/bin/R CMD INSTALL spoon StartedAt: 2025-02-03 15:37:08 -0500 (Mon, 03 Feb 2025) EndedAt: 2025-02-03 15:38:00 -0500 (Mon, 03 Feb 2025) EllapsedTime: 52.2 seconds RetCode: 0 Status: OK