Package: spoon Version: 1.2.0 Command: /home/biocbuild/bbs-3.20-bioc/R/bin/R CMD INSTALL spoon StartedAt: 2025-02-03 15:29:20 -0500 (Mon, 03 Feb 2025) EndedAt: 2025-02-03 15:29:42 -0500 (Mon, 03 Feb 2025) EllapsedTime: 21.9 seconds RetCode: 0 Status: OK