Package: spoon Version: 1.2.0 Command: chmod a+r spoon -R && F:\biocbuild\bbs-3.20-bioc\R\bin\R.exe CMD build --keep-empty-dirs --no-resave-data spoon StartedAt: 2025-02-03 22:22:39 -0500 (Mon, 03 Feb 2025) EndedAt: 2025-02-03 22:25:19 -0500 (Mon, 03 Feb 2025) EllapsedTime: 160.6 seconds RetCode: 0 Status: OK PackageFile: spoon_1.2.0.tar.gz PackageFileSize: 814.1 KiB