Package: spoon Version: 1.2.0 Command: /home/biocbuild/R/R/bin/R CMD check --install=check:spoon.install-out.txt --library=/home/biocbuild/R/R/site-library --no-vignettes --timings spoon_1.2.0.tar.gz StartedAt: 2025-02-04 11:22:35 -0000 (Tue, 04 Feb 2025) EndedAt: 2025-02-04 11:30:55 -0000 (Tue, 04 Feb 2025) EllapsedTime: 499.6 seconds RetCode: 0 Status: OK CheckDir: spoon.Rcheck Warnings: 0