Package: spoon Version: 1.2.0 Command: /home/biocbuild/R/R/bin/R CMD INSTALL spoon StartedAt: 2025-02-03 20:38:19 -0000 (Mon, 03 Feb 2025) EndedAt: 2025-02-03 20:38:49 -0000 (Mon, 03 Feb 2025) EllapsedTime: 29.1 seconds RetCode: 0 Status: OK