Package: spqn Version: 1.18.0 Command: /Library/Frameworks/R.framework/Resources/bin/R CMD build --keep-empty-dirs --no-resave-data spqn StartedAt: 2025-02-03 22:38:40 -0500 (Mon, 03 Feb 2025) EndedAt: 2025-02-03 22:42:22 -0500 (Mon, 03 Feb 2025) EllapsedTime: 222.1 seconds RetCode: 0 Status: OK PackageFile: spqn_1.18.0.tar.gz PackageFileSize: 2.807 MiB