Package: srnadiff
Version: 1.25.0
Command: F:\biocbuild\bbs-3.20-bioc\R\bin\R.exe CMD INSTALL srnadiff
StartedAt: 2024-06-09 16:27:59 -0400 (Sun, 09 Jun 2024)
EndedAt: 2024-06-09 16:29:54 -0400 (Sun, 09 Jun 2024)
EllapsedTime: 115.4 seconds
RetCode: 0
Status: OK