Package: srnadiff Version: 1.26.0 Command: rm -rf srnadiff.buildbin-libdir && mkdir srnadiff.buildbin-libdir && F:\biocbuild\bbs-3.20-bioc\R\bin\R.exe CMD INSTALL --build --library=srnadiff.buildbin-libdir srnadiff_1.26.0.tar.gz StartedAt: 2025-02-04 09:36:53 -0500 (Tue, 04 Feb 2025) EndedAt: 2025-02-04 09:38:50 -0500 (Tue, 04 Feb 2025) EllapsedTime: 116.6 seconds RetCode: 0 Status: OK PackageFile: srnadiff_1.26.0.zip PackageFileSize: 3.203 MiB