Package: srnadiff Version: 1.26.0 Command: chmod a+r srnadiff -R && F:\biocbuild\bbs-3.20-bioc\R\bin\R.exe CMD build --keep-empty-dirs --no-resave-data srnadiff StartedAt: 2025-02-03 22:24:59 -0500 (Mon, 03 Feb 2025) EndedAt: 2025-02-03 22:30:46 -0500 (Mon, 03 Feb 2025) EllapsedTime: 346.8 seconds RetCode: 0 Status: OK PackageFile: srnadiff_1.26.0.tar.gz PackageFileSize: 2.419 MiB