Package: srnadiff Version: 1.26.0 Command: /home/biocbuild/R/R/bin/R CMD check --install=check:srnadiff.install-out.txt --library=/home/biocbuild/R/R/site-library --no-vignettes --timings srnadiff_1.26.0.tar.gz StartedAt: 2025-02-04 11:25:20 -0000 (Tue, 04 Feb 2025) EndedAt: 2025-02-04 12:05:21 -0000 (Tue, 04 Feb 2025) EllapsedTime: 2400.5 seconds RetCode: None Status: TIMEOUT CheckDir: srnadiff.Rcheck Warnings: NA