Package: sscu
Version: 2.36.0
Command: /Library/Frameworks/R.framework/Resources/bin/R CMD check --install=check:sscu.install-out.txt --library=/Library/Frameworks/R.framework/Resources/library --no-vignettes --timings sscu_2.36.0.tar.gz
StartedAt: 2025-02-18 10:06:40 -0500 (Tue, 18 Feb 2025)
EndedAt: 2025-02-18 10:10:00 -0500 (Tue, 18 Feb 2025)
EllapsedTime: 199.6 seconds
RetCode: 0
Status: WARNINGS
CheckDir: sscu.Rcheck
Warnings: 1