Package: sscu Version: 2.36.0 Command: /home/biocbuild/R/R/bin/R CMD build --keep-empty-dirs --no-resave-data sscu StartedAt: 2025-02-04 03:18:46 -0000 (Tue, 04 Feb 2025) EndedAt: 2025-02-04 03:19:08 -0000 (Tue, 04 Feb 2025) EllapsedTime: 22.0 seconds RetCode: 0 Status: OK PackageFile: sscu_2.36.0.tar.gz PackageFileSize: 1.287 MiB