Package: sscu Version: 2.36.0 Command: /home/biocbuild/R/R/bin/R CMD check --install=check:sscu.install-out.txt --library=/home/biocbuild/R/R/site-library --no-vignettes --timings sscu_2.36.0.tar.gz StartedAt: 2025-02-04 11:25:27 -0000 (Tue, 04 Feb 2025) EndedAt: 2025-02-04 11:27:16 -0000 (Tue, 04 Feb 2025) EllapsedTime: 108.1 seconds RetCode: 0 Status: WARNINGS CheckDir: sscu.Rcheck Warnings: 1