Package: sscu Version: 2.36.0 Command: /home/biocbuild/R/R/bin/R CMD INSTALL sscu StartedAt: 2025-02-03 20:29:32 -0000 (Mon, 03 Feb 2025) EndedAt: 2025-02-03 20:29:45 -0000 (Mon, 03 Feb 2025) EllapsedTime: 12.3 seconds RetCode: 0 Status: OK