Package: ssize Version: 1.80.0 Command: /Library/Frameworks/R.framework/Resources/bin/R CMD build --keep-empty-dirs --no-resave-data ssize StartedAt: 2025-02-03 22:41:41 -0500 (Mon, 03 Feb 2025) EndedAt: 2025-02-03 22:42:01 -0500 (Mon, 03 Feb 2025) EllapsedTime: 19.9 seconds RetCode: 0 Status: OK PackageFile: ssize_1.80.0.tar.gz PackageFileSize: 545.3 KiB