Package: ssize Version: 1.80.0 Command: /Library/Frameworks/R.framework/Resources/bin/R CMD INSTALL ssize StartedAt: 2025-02-03 15:13:19 -0500 (Mon, 03 Feb 2025) EndedAt: 2025-02-03 15:13:37 -0500 (Mon, 03 Feb 2025) EllapsedTime: 18.0 seconds RetCode: 0 Status: OK