Package: ssrch
Version: 1.22.0
Command: /Library/Frameworks/R.framework/Resources/bin/R CMD build --keep-empty-dirs --no-resave-data ssrch
StartedAt: 2024-11-08 19:19:18 -0500 (Fri, 08 Nov 2024)
EndedAt: 2024-11-08 19:19:22 -0500 (Fri, 08 Nov 2024)
EllapsedTime: 4.0 seconds
RetCode: 0
Status: OK
PackageFile: ssrch_1.22.0.tar.gz
PackageFileSize: 1.443 <A href="http://en.wikipedia.org/wiki/MiB" target="_blank">MiB</A>