Package: ssrch Version: 1.22.0 Command: chmod a+r ssrch -R && F:\biocbuild\bbs-3.20-bioc\R\bin\R.exe CMD build --keep-empty-dirs --no-resave-data ssrch StartedAt: 2025-02-03 22:26:19 -0500 (Mon, 03 Feb 2025) EndedAt: 2025-02-03 22:26:40 -0500 (Mon, 03 Feb 2025) EllapsedTime: 20.4 seconds RetCode: 0 Status: OK PackageFile: ssrch_1.22.0.tar.gz PackageFileSize: 1.444 MiB