Package: ssrch Version: 1.22.0 Command: F:\biocbuild\bbs-3.20-bioc\R\bin\R.exe CMD check --no-multiarch --install=check:ssrch.install-out.txt --library=F:\biocbuild\bbs-3.20-bioc\R\library --no-vignettes --timings ssrch_1.22.0.tar.gz StartedAt: 2025-02-04 06:46:09 -0500 (Tue, 04 Feb 2025) EndedAt: 2025-02-04 06:46:52 -0500 (Tue, 04 Feb 2025) EllapsedTime: 42.5 seconds RetCode: 0 Status: OK CheckDir: ssrch.Rcheck Warnings: 0