Package: ssviz Version: 1.40.0 Command: rm -rf ssviz.buildbin-libdir && mkdir ssviz.buildbin-libdir && /Users/biocbuild/BBS/utils/build-universal.sh ssviz_1.40.0.tar.gz /Library/Frameworks/R.framework/Resources/bin/R ssviz.buildbin-libdir StartedAt: 2025-02-01 17:05:13 -0500 (Sat, 01 Feb 2025) EndedAt: 2025-02-01 17:05:32 -0500 (Sat, 01 Feb 2025) EllapsedTime: 19.3 seconds RetCode: 0 Status: OK PackageFile: ssviz_1.40.0.tgz PackageFileSize: 1.114 MiB