Package: ssviz Version: 1.40.0 Command: /Library/Frameworks/R.framework/Resources/bin/R CMD INSTALL ssviz StartedAt: 2025-01-30 16:13:27 -0500 (Thu, 30 Jan 2025) EndedAt: 2025-01-30 16:13:44 -0500 (Thu, 30 Jan 2025) EllapsedTime: 16.6 seconds RetCode: 0 Status: OK