Package: ssviz Version: 1.40.0 Command: /Library/Frameworks/R.framework/Resources/bin/R CMD INSTALL ssviz StartedAt: 2025-01-30 15:42:43 -0500 (Thu, 30 Jan 2025) EndedAt: 2025-01-30 15:43:17 -0500 (Thu, 30 Jan 2025) EllapsedTime: 33.5 seconds RetCode: 0 Status: OK