Package: ssviz Version: 1.40.0 Command: /home/biocbuild/bbs-3.20-bioc/R/bin/R CMD build --keep-empty-dirs --no-resave-data --md5 ssviz StartedAt: 2025-01-30 19:21:34 -0500 (Thu, 30 Jan 2025) EndedAt: 2025-01-30 19:21:57 -0500 (Thu, 30 Jan 2025) EllapsedTime: 23.0 seconds RetCode: 0 Status: OK PackageFile: ssviz_1.40.0.tar.gz PackageFileSize: 1.156 MiB