Package: ssviz Version: 1.40.0 Command: rm -rf ssviz.buildbin-libdir && mkdir ssviz.buildbin-libdir && F:\biocbuild\bbs-3.20-bioc\R\bin\R.exe CMD INSTALL --build --library=ssviz.buildbin-libdir ssviz_1.40.0.tar.gz StartedAt: 2025-01-31 09:43:45 -0500 (Fri, 31 Jan 2025) EndedAt: 2025-01-31 09:44:12 -0500 (Fri, 31 Jan 2025) EllapsedTime: 27.4 seconds RetCode: 0 Status: OK PackageFile: ssviz_1.40.0.zip PackageFileSize: 976.2 KiB