Package: ssviz Version: 1.40.0 Command: /home/biocbuild/R/R/bin/R CMD build --keep-empty-dirs --no-resave-data ssviz StartedAt: 2025-01-31 03:00:27 -0000 (Fri, 31 Jan 2025) EndedAt: 2025-01-31 03:00:56 -0000 (Fri, 31 Jan 2025) EllapsedTime: 29.0 seconds RetCode: 0 Status: OK PackageFile: ssviz_1.40.0.tar.gz PackageFileSize: 1.146 MiB