Package: staRank
Version: 1.48.0
Command: /home/biocbuild/bbs-3.20-bioc/R/bin/R CMD INSTALL staRank
StartedAt: 2024-11-19 17:24:35 -0500 (Tue, 19 Nov 2024)
EndedAt: 2024-11-19 17:24:35 -0500 (Tue, 19 Nov 2024)
EllapsedTime: 0.2 seconds
RetCode: 1
Status: ERROR