Package: standR Version: 1.10.0 Command: /Library/Frameworks/R.framework/Resources/bin/R CMD build --keep-empty-dirs --no-resave-data standR StartedAt: 2025-02-04 09:13:19 -0500 (Tue, 04 Feb 2025) EndedAt: 2025-02-04 09:15:20 -0500 (Tue, 04 Feb 2025) EllapsedTime: 121.1 seconds RetCode: 0 Status: OK PackageFile: standR_1.10.0.tar.gz PackageFileSize: 3.01 MiB