Package: standR Version: 1.10.0 Command: /home/biocbuild/R/R/bin/R CMD build --keep-empty-dirs --no-resave-data standR StartedAt: 2025-02-04 03:20:06 -0000 (Tue, 04 Feb 2025) EndedAt: 2025-02-04 03:22:43 -0000 (Tue, 04 Feb 2025) EllapsedTime: 157.3 seconds RetCode: 0 Status: OK PackageFile: standR_1.10.0.tar.gz PackageFileSize: 1.957 MiB