Package: statTarget Version: 1.36.0 Command: chmod a+r statTarget -R && F:\biocbuild\bbs-3.20-bioc\R\bin\R.exe CMD build --keep-empty-dirs --no-resave-data statTarget StartedAt: 2025-02-03 22:27:02 -0500 (Mon, 03 Feb 2025) EndedAt: 2025-02-03 22:27:27 -0500 (Mon, 03 Feb 2025) EllapsedTime: 25.2 seconds RetCode: 0 Status: OK PackageFile: statTarget_1.36.0.tar.gz PackageFileSize: 779.3 KiB