Package: statTarget Version: 1.36.0 Command: F:\biocbuild\bbs-3.20-bioc\R\bin\R.exe CMD check --no-multiarch --install=check:statTarget.install-out.txt --library=F:\biocbuild\bbs-3.20-bioc\R\library --no-vignettes --timings statTarget_1.36.0.tar.gz StartedAt: 2025-02-11 06:43:21 -0500 (Tue, 11 Feb 2025) EndedAt: 2025-02-11 06:44:22 -0500 (Tue, 11 Feb 2025) EllapsedTime: 60.1 seconds RetCode: 0 Status: OK CheckDir: statTarget.Rcheck Warnings: 0