Package: stepNorm
Version: 1.78.0
Command: /Library/Frameworks/R.framework/Resources/bin/R CMD check --install=check:stepNorm.install-out.txt --library=/Library/Frameworks/R.framework/Resources/library --no-vignettes --timings stepNorm_1.78.0.tar.gz
StartedAt: 2024-11-20 03:08:44 -0500 (Wed, 20 Nov 2024)
EndedAt: 2024-11-20 03:13:26 -0500 (Wed, 20 Nov 2024)
EllapsedTime: 281.7 seconds
RetCode: 0
Status: OK
CheckDir: stepNorm.Rcheck
Warnings: 0