Package: stepNorm Version: 1.78.0 Command: /Library/Frameworks/R.framework/Resources/bin/R CMD build --keep-empty-dirs --no-resave-data stepNorm StartedAt: 2025-02-03 22:43:00 -0500 (Mon, 03 Feb 2025) EndedAt: 2025-02-03 22:43:02 -0500 (Mon, 03 Feb 2025) EllapsedTime: 2.2 seconds RetCode: 0 Status: OK PackageFile: stepNorm_1.78.0.tar.gz PackageFileSize: 460.2 KiB