Package: stepNorm
Version: 1.78.0
Command: /home/biocbuild/bbs-3.20-bioc/R/bin/R CMD INSTALL stepNorm
StartedAt: 2025-02-17 15:14:03 -0500 (Mon, 17 Feb 2025)
EndedAt: 2025-02-17 15:14:07 -0500 (Mon, 17 Feb 2025)
EllapsedTime: 4.2 seconds
RetCode: 0
Status: OK