Package: stepNorm Version: 1.78.0 Command: chmod a+r stepNorm -R && F:\biocbuild\bbs-3.20-bioc\R\bin\R.exe CMD build --keep-empty-dirs --no-resave-data stepNorm StartedAt: 2025-02-03 22:27:07 -0500 (Mon, 03 Feb 2025) EndedAt: 2025-02-03 22:27:10 -0500 (Mon, 03 Feb 2025) EllapsedTime: 3.0 seconds RetCode: 0 Status: OK PackageFile: stepNorm_1.78.0.tar.gz PackageFileSize: 460.1 KiB