Package: stepNorm Version: 1.78.0 Command: /home/biocbuild/R/R/bin/R CMD build --keep-empty-dirs --no-resave-data stepNorm StartedAt: 2025-02-04 03:20:37 -0000 (Tue, 04 Feb 2025) EndedAt: 2025-02-04 03:20:39 -0000 (Tue, 04 Feb 2025) EllapsedTime: 2.0 seconds RetCode: 0 Status: OK PackageFile: stepNorm_1.78.0.tar.gz PackageFileSize: 460.2 KiB