Package: strandCheckR Version: 1.24.0 Command: /Library/Frameworks/R.framework/Resources/bin/R CMD build --keep-empty-dirs --no-resave-data strandCheckR StartedAt: 2025-02-04 09:16:53 -0500 (Tue, 04 Feb 2025) EndedAt: 2025-02-04 09:18:11 -0500 (Tue, 04 Feb 2025) EllapsedTime: 77.4 seconds RetCode: 0 Status: OK PackageFile: strandCheckR_1.24.0.tar.gz PackageFileSize: 1.211 MiB