Package: strandCheckR Version: 1.24.0 Command: /Library/Frameworks/R.framework/Resources/bin/R CMD INSTALL strandCheckR StartedAt: 2025-02-03 16:29:42 -0500 (Mon, 03 Feb 2025) EndedAt: 2025-02-03 16:30:24 -0500 (Mon, 03 Feb 2025) EllapsedTime: 42.0 seconds RetCode: 0 Status: OK