Package: strandCheckR
Version: 1.24.0
Command: /home/biocbuild/R/R/bin/R CMD INSTALL strandCheckR
StartedAt: 2024-11-19 20:59:05 -0000 (Tue, 19 Nov 2024)
EndedAt: 2024-11-19 20:59:58 -0000 (Tue, 19 Nov 2024)
EllapsedTime: 52.4 seconds
RetCode: 0
Status: OK