Package: strandCheckR Version: 1.24.0 Command: /Library/Frameworks/R.framework/Resources/bin/R CMD build --keep-empty-dirs --no-resave-data strandCheckR StartedAt: 2025-02-03 22:43:10 -0500 (Mon, 03 Feb 2025) EndedAt: 2025-02-03 22:45:15 -0500 (Mon, 03 Feb 2025) EllapsedTime: 124.5 seconds RetCode: 0 Status: OK PackageFile: strandCheckR_1.24.0.tar.gz PackageFileSize: 1.211 MiB