Package: strandCheckR Version: 1.24.0 Command: rm -rf strandCheckR.buildbin-libdir && mkdir strandCheckR.buildbin-libdir && F:\biocbuild\bbs-3.20-bioc\R\bin\R.exe CMD INSTALL --build --library=strandCheckR.buildbin-libdir strandCheckR_1.24.0.tar.gz StartedAt: 2025-02-04 09:37:27 -0500 (Tue, 04 Feb 2025) EndedAt: 2025-02-04 09:38:18 -0500 (Tue, 04 Feb 2025) EllapsedTime: 51.0 seconds RetCode: 0 Status: OK PackageFile: strandCheckR_1.24.0.zip PackageFileSize: 935.6 KiB