Package: strandCheckR
Version: 1.24.0
Command: F:\biocbuild\bbs-3.20-bioc\R\bin\R.exe CMD check --no-multiarch --install=check:strandCheckR.install-out.txt --library=F:\biocbuild\bbs-3.20-bioc\R\library --no-vignettes --timings strandCheckR_1.24.0.tar.gz
StartedAt: 2025-02-18 06:25:43 -0500 (Tue, 18 Feb 2025)
EndedAt: 2025-02-18 06:30:49 -0500 (Tue, 18 Feb 2025)
EllapsedTime: 306.1 seconds
RetCode: 0
Status: OK
CheckDir: strandCheckR.Rcheck
Warnings: 0